BEGIN:VCALENDAR
VERSION:2.0
PRODID:-//Excellence Consulting
CALSCALE:GREGORIAN
METHOD:PUBLISH
X-WR-CALNAME:Excellence Consulting
X-ORIGINAL-URL:http://excellencecns.com/product/%d8%aa%d8%b7%d9%88%d9%8a%d8%b1-%d8%a7%d9%84%d8%b9%d9%85%d9%84%d9%8a%d8%a7%d8%aa-%d8%b7%d8%b1%d9%8a%d9%82%d8%a7-%d9%84%d9%84%d8%aa%d9%85%d9%8a%d8%b2-%d8%a7%d9%84%d9%85%d8%a4%d8%b3%d8%b3%d9%8a/
X-WR-CALDESC:تطوير العمليات طريقا للتميز المؤسسي
BEGIN:VEVENT
DTSTART:20190316T194500
DTEND:20190316T214500
SUMMARY:تطوير العمليات طريقا للتميز المؤسسي
DESCRIPTION:
LOCATION:الرياض
END:VEVENT
END:VCALENDAR
