BEGIN:VCALENDAR
VERSION:2.0
PRODID:-//Excellence Consulting
CALSCALE:GREGORIAN
METHOD:PUBLISH
X-WR-CALNAME:Excellence Consulting
X-ORIGINAL-URL:http://excellencecns.com/product/%d8%b4%d9%87%d8%a7%d8%af%d8%a9-%d8%aa%d8%ad%d9%84%d9%8a%d9%84-%d8%a7%d9%84%d8%a7%d8%b9%d9%85%d8%a7%d9%84-%d8%a7%d9%84%d8%a7%d8%ad%d8%aa%d8%b1%d8%a7%d9%81%d9%8a%d8%a9-pba/
X-WR-CALDESC:شهادة تحليل الاعمال الاحترافية PBA
BEGIN:VEVENT
DTSTART:20190413T200000
DTEND:20190413T213000
SUMMARY:شهادة تحليل الاعمال الاحترافية PBA
DESCRIPTION:
LOCATION:
END:VEVENT
END:VCALENDAR
