BEGIN:VCALENDAR
VERSION:2.0
PRODID:-//Excellence Consulting
CALSCALE:GREGORIAN
METHOD:PUBLISH
X-WR-CALNAME:Excellence Consulting
X-ORIGINAL-URL:http://excellencecns.com/product/%d8%aa%d8%a3%d8%b3%d9%8a%d8%b3-%d9%85%d9%83%d8%aa%d8%a8-%d8%a7%d8%af%d8%a7%d8%b1%d8%a9-%d8%a7%d9%84%d8%aa%d8%ba%d9%8a%d9%8a%d8%b1-cmo/
X-WR-CALDESC:تأسيس مكتب ادارة التغيير CMO
BEGIN:VEVENT
DTSTART:20190309T200000
DTEND:20190309T213000
SUMMARY:تأسيس مكتب ادارة التغيير CMO
DESCRIPTION:
LOCATION:
END:VEVENT
END:VCALENDAR
