BEGIN:VCALENDAR
VERSION:2.0
PRODID:-//Excellence Consulting
CALSCALE:GREGORIAN
METHOD:PUBLISH
X-WR-CALNAME:Excellence Consulting
X-ORIGINAL-URL:http://excellencecns.com/product/%d8%aa%d8%a3%d8%b3%d9%8a%d8%b3-%d9%85%d9%83%d8%aa%d8%a8-%d8%a7%d8%af%d8%a7%d8%b1%d8%a9-%d8%a7%d9%84%d9%85%d8%b4%d8%a7%d8%b1%d9%8a%d8%b9-pmo-2/
X-WR-CALDESC:تأسيس مكتب ادارة المشاريع PMO
BEGIN:VEVENT
DTSTART:20191211T170000
DTEND:20191213T220000
SUMMARY:تأسيس مكتب ادارة المشاريع PMO
DESCRIPTION:
LOCATION:الرياض
END:VEVENT
END:VCALENDAR
