BEGIN:VCALENDAR
VERSION:2.0
PRODID:-//Excellence Consulting
CALSCALE:GREGORIAN
METHOD:PUBLISH
X-WR-CALNAME:Excellence Consulting
X-ORIGINAL-URL:http://excellencecns.com/product/%d8%af%d9%88%d8%b1%d8%a9-%d8%aa%d8%ad%d9%84%d9%8a%d9%84-%d8%a7%d9%84%d8%a7%d8%b9%d9%85%d8%a7%d9%84-%d8%a7%d9%84%d8%a7%d8%ad%d8%aa%d8%b1%d8%a7%d9%81%d9%8a%d8%a9-pba-2/
X-WR-CALDESC:دورة تحليل الاعمال الاحترافية PBA™
BEGIN:VEVENT
DTSTART:20191110T170000
DTEND:20191118T220000
SUMMARY:دورة تحليل الاعمال الاحترافية PBA™
DESCRIPTION:
LOCATION:الرياض
END:VEVENT
END:VCALENDAR
