BEGIN:VCALENDAR
VERSION:2.0
PRODID:-//Excellence Consulting
CALSCALE:GREGORIAN
METHOD:PUBLISH
X-WR-CALNAME:Excellence Consulting
X-ORIGINAL-URL:http://excellencecns.com/product/%d8%af%d9%88%d8%b1%d8%a9-%d8%a7%d8%af%d8%a7%d8%b1%d8%a9-%d8%a7%d9%84%d8%aa%d8%ba%d9%8a%d9%8a%d8%b1-%d8%a7%d9%84%d8%a7%d8%ad%d8%aa%d8%b1%d8%a7%d9%81%d9%8a%d8%a9-ccmp-5/
X-WR-CALDESC:دورة ادارة التغيير الاحترافية CCMP™
BEGIN:VEVENT
DTSTART:20190929T170000
DTEND:20191002T220000
SUMMARY:دورة ادارة التغيير الاحترافية CCMP™
DESCRIPTION:
LOCATION:الرياض
END:VEVENT
END:VCALENDAR
