BEGIN:VCALENDAR
VERSION:2.0
PRODID:-//Excellence Consulting
CALSCALE:GREGORIAN
METHOD:PUBLISH
X-WR-CALNAME:Excellence Consulting
X-ORIGINAL-URL:http://excellencecns.com/product/%d8%af%d9%88%d8%b1%d8%a9-%d8%a7%d8%af%d8%a7%d8%b1%d8%a9-%d8%a7%d9%84%d9%85%d8%ae%d8%a7%d8%b7%d8%b1-%d8%a7%d9%84%d8%a7%d8%ad%d8%aa%d8%b1%d8%a7%d9%81%d9%8a%d8%a9-rmp-3/
X-WR-CALDESC:دورة ادارة المخاطر الاحترافية RMP™
BEGIN:VEVENT
DTSTART:20190908T170000
DTEND:20190912T220000
SUMMARY:دورة ادارة المخاطر الاحترافية RMP™
DESCRIPTION:
LOCATION:الرياض
END:VEVENT
END:VCALENDAR
