BEGIN:VCALENDAR
VERSION:2.0
PRODID:-//Excellence Consulting
CALSCALE:GREGORIAN
METHOD:PUBLISH
X-WR-CALNAME:Excellence Consulting
X-ORIGINAL-URL:http://excellencecns.com/product/%d8%af%d9%88%d8%b1%d8%a9-%d8%a7%d8%af%d8%a7%d8%b1%d8%a9-%d8%a7%d9%84%d9%85%d8%ad%d8%a7%d9%81%d8%b8-%d9%88%d8%a7%d9%84%d8%a8%d8%b1%d8%a7%d9%85%d8%ac-%d8%a7%d9%84%d8%a7%d8%ad%d8%aa%d8%b1%d8%a7%d9%81/
X-WR-CALDESC:دورة ادارة المحافظ والبرامج الاحترافية ™PfMP™ &#038; PgMP
BEGIN:VEVENT
DTSTART:20190407T170000
DTEND:20190411T220000
SUMMARY:دورة ادارة المحافظ والبرامج الاحترافية ™PfMP™ &#038; PgMP
DESCRIPTION:
LOCATION:الرياض
END:VEVENT
END:VCALENDAR
