BEGIN:VCALENDAR
VERSION:2.0
PRODID:-//Excellence Consulting
CALSCALE:GREGORIAN
METHOD:PUBLISH
X-WR-CALNAME:Excellence Consulting
X-ORIGINAL-URL:http://excellencecns.com/product/%d8%af%d9%88%d8%b1%d8%a9-%d8%a7%d9%84%d9%84%d9%8a%d9%86-6-%d8%b3%d9%8a%d8%ac%d9%85%d8%a7/
X-WR-CALDESC:دورة اللين 6 سيجما
BEGIN:VEVENT
DTSTART:20190331T170000
DTEND:20190404T220000
SUMMARY:دورة اللين 6 سيجما
DESCRIPTION:
LOCATION:الرياض
END:VEVENT
END:VCALENDAR
