BEGIN:VCALENDAR
VERSION:2.0
PRODID:-//Excellence Consulting
CALSCALE:GREGORIAN
METHOD:PUBLISH
X-WR-CALNAME:Excellence Consulting
X-ORIGINAL-URL:http://excellencecns.com/product/%d9%85%d9%84%d8%aa%d9%82%d9%89-%d8%a7%d9%83%d8%b3%d9%84%d9%86%d8%b3-%d8%a7%d9%84%d8%ab%d8%a7%d9%84%d8%ab-%d8%b4%d9%87%d8%a7%d8%af%d8%a9-%d8%a7%d8%af%d8%a7%d8%b1%d8%a9-%d8%a7%d9%84%d9%85%d8%b4%d8%a7/
X-WR-CALDESC:ملتقى اكسلنس الثالث &#8211; تجربة وزارة الصحة في تأسيس مكتب ادارة المشاريع PMO
BEGIN:VEVENT
DTSTART:20181229T193000
DTEND:20181229T213000
SUMMARY:ملتقى اكسلنس الثالث &#8211; تجربة وزارة الصحة في تأسيس مكتب ادارة المشاريع PMO
DESCRIPTION:
LOCATION:الرياض
END:VEVENT
END:VCALENDAR
