BEGIN:VCALENDAR
VERSION:2.0
PRODID:-//Excellence Consulting
CALSCALE:GREGORIAN
METHOD:PUBLISH
X-WR-CALNAME:Excellence Consulting
X-ORIGINAL-URL:http://excellencecns.com/en/product/ms-project/
X-WR-CALDESC:MS Project
BEGIN:VEVENT
DTSTART:20181216T170000
DTEND:20181218T220000
SUMMARY:MS Project
DESCRIPTION:
LOCATION:
END:VEVENT
END:VCALENDAR
