BEGIN:VCALENDAR
VERSION:2.0
PRODID:-//Excellence Consulting
CALSCALE:GREGORIAN
METHOD:PUBLISH
X-WR-CALNAME:Excellence Consulting
X-ORIGINAL-URL:http://excellencecns.com/product/%d8%a7%d9%84%d9%84%d9%8a%d9%86-6-%d8%b3%d9%8a%d8%ac%d9%85%d8%a7-%d8%a7%d9%84%d8%ad%d8%b2%d8%a7%d9%85-%d8%a7%d9%84%d8%a3%d8%ae%d8%b6%d8%b1-2/
X-WR-CALDESC:اللين 6 سيجما الحزام الأخضر
BEGIN:VEVENT
DTSTART:20181216T170000
DTEND:20181216T220000
SUMMARY:اللين 6 سيجما الحزام الأخضر
DESCRIPTION:
LOCATION:الرياض
END:VEVENT
END:VCALENDAR
