BEGIN:VCALENDAR
VERSION:2.0
PRODID:-//Excellence Consulting
CALSCALE:GREGORIAN
METHOD:PUBLISH
X-WR-CALNAME:Excellence Consulting
X-ORIGINAL-URL:http://excellencecns.com/product/%d9%85%d8%b1%d8%a8%d8%b9-%d9%85%d9%88%d8%a7%d9%87%d8%a8-%d8%a7%d9%84%d8%aa%d9%85%d9%8a%d8%b2-%d8%a7%d9%84%d9%85%d8%a4%d8%b3%d8%b3%d9%8a-ets-2/
X-WR-CALDESC:مربع مواهب التميز المؤسسي ETS
BEGIN:VEVENT
DTSTART:20181223T170000
DTEND:20181227T220000
SUMMARY:مربع مواهب التميز المؤسسي ETS
DESCRIPTION:
LOCATION:الرياض
END:VEVENT
END:VCALENDAR
