BEGIN:VCALENDAR
VERSION:2.0
PRODID:-//Excellence Consulting
CALSCALE:GREGORIAN
METHOD:PUBLISH
X-WR-CALNAME:Excellence Consulting
X-ORIGINAL-URL:http://excellencecns.com/product/%d8%a7%d9%84%d8%b4%d9%87%d8%a7%d8%af%d8%a7%d8%aa-%d8%a7%d9%84%d8%a7%d8%ad%d8%aa%d8%b1%d8%a7%d9%81%d9%8a%d8%a9-%d9%81%d9%8a-%d8%a7%d9%84%d8%aa%d8%ae%d8%b7%d9%8a%d8%b7-%d8%a7%d9%84%d8%a7%d8%b3%d8%aa/
X-WR-CALDESC:الشهادات الاحترافية في التخطيط الاستراتيجي
BEGIN:VEVENT
DTSTART:20181201T193000
DTEND:20181201T213000
SUMMARY:الشهادات الاحترافية في التخطيط الاستراتيجي
DESCRIPTION:
LOCATION:الرياض
END:VEVENT
END:VCALENDAR
