BEGIN:VCALENDAR
VERSION:2.0
PRODID:-//Excellence Consulting
CALSCALE:GREGORIAN
METHOD:PUBLISH
X-WR-CALNAME:Excellence Consulting
X-ORIGINAL-URL:http://excellencecns.com/product/ccmp_event/
X-WR-CALDESC:ملتقى اكسلنس الثاني &#8211; شهادة ادارة التغيير الاحترافية (2 PDU)
BEGIN:VEVENT
DTSTART:20181112T203000
DTEND:20181112T223000
SUMMARY:ملتقى اكسلنس الثاني &#8211; شهادة ادارة التغيير الاحترافية (2 PDU)
DESCRIPTION:
LOCATION:الرياض - فندق هوليدي ان الازدهار
END:VEVENT
END:VCALENDAR
