BEGIN:VCALENDAR
VERSION:2.0
PRODID:-//Excellence Consulting
CALSCALE:GREGORIAN
METHOD:PUBLISH
X-WR-CALNAME:Excellence Consulting
X-ORIGINAL-URL:http://excellencecns.com/product/%d8%af%d9%88%d8%b1%d8%a9-%d8%a7%d8%af%d8%a7%d8%b1%d8%a9-%d8%a7%d9%84%d9%85%d8%ad%d8%a7%d9%81%d8%b8-%d9%88%d8%a7%d9%84%d8%a8%d8%b1%d8%a7%d9%85%d8%ac-pgmp-pfmp/
X-WR-CALDESC:دورة ادارة المحافظ والبرامج PgMP &#038; PfMP
BEGIN:VEVENT
DTSTART:20181014T170000
DTEND:20181018T220000
SUMMARY:دورة ادارة المحافظ والبرامج PgMP &#038; PfMP
DESCRIPTION:
LOCATION:الرياض
END:VEVENT
END:VCALENDAR
