BEGIN:VCALENDAR
VERSION:2.0
PRODID:-//Excellence Consulting
CALSCALE:GREGORIAN
METHOD:PUBLISH
X-WR-CALNAME:Excellence Consulting
X-ORIGINAL-URL:http://excellencecns.com/product/%d8%af%d9%88%d8%b1%d8%a9-%d9%85%d9%8a%d9%83%d8%b1%d9%88%d8%b3%d9%88%d9%81%d8%aa-%d8%a8%d8%b1%d9%88%d8%ac%d9%8a%d9%83%d8%aa-2016/
X-WR-CALDESC:دورة ميكروسوفت بروجيكت 2016
BEGIN:VEVENT
DTSTART:20180918T170000
DTEND:20180920T220000
SUMMARY:دورة ميكروسوفت بروجيكت 2016
DESCRIPTION:
LOCATION:الرياض
END:VEVENT
END:VCALENDAR
